BEGIN:VCALENDAR
VERSION:2.0
PRODID:-//hacksw/handcal//NONSGML v1.0//EN
CALSCALE:GREGORIAN
BEGIN:VEVENT
SUMMARY:ZETA-ZETA 2
LOCATION:Gezala Auditoriuma
DTSTART:20220222T183000Z
DESCRIPTION:
URL;VALUE=URI:https://azkena.lezo.eus/eu/agenda/zeta-zeta-2
DTSTAMP:20260421T023315Z
UID:69e6c5cb72499
END:VEVENT
END:VCALENDAR