BEGIN:VCALENDAR
VERSION:2.0
PRODID:-//hacksw/handcal//NONSGML v1.0//EN
CALSCALE:GREGORIAN
BEGIN:VEVENT
SUMMARY:ZETA-ZETA 3
LOCATION:Gezala Auditoriuma
DTSTART:20220421T173000Z
DESCRIPTION:
URL;VALUE=URI:https://azkena.lezo.eus/eu/agenda/zeta-zeta-3
DTSTAMP:20260421T023410Z
UID:69e6c602768c5
END:VEVENT
END:VCALENDAR