BEGIN:VCALENDAR
VERSION:2.0
PRODID:-//hacksw/handcal//NONSGML v1.0//EN
CALSCALE:GREGORIAN
BEGIN:VEVENT
SUMMARY:Bertso saioa
LOCATION:Gezala Auditoriuma
DTSTART:20220219T191500Z
DESCRIPTION:
URL;VALUE=URI:https://azkena.lezo.eus/eu/agenda/bertso-saioa
DTSTAMP:20260421T105241Z
UID:69e73ad971da3
END:VEVENT
END:VCALENDAR