BEGIN:VCALENDAR
VERSION:2.0
PRODID:-//hacksw/handcal//NONSGML v1.0//EN
CALSCALE:GREGORIAN
BEGIN:VEVENT
SUMMARY:Erre
LOCATION:Gezala Auditoriuma
DTSTART:20221120T190000Z
DESCRIPTION:
URL;VALUE=URI:https://azkena.lezo.eus/eu/agenda/erre
DTSTAMP:20260421T052549Z
UID:69e6ee3dd6cb1
END:VEVENT
END:VCALENDAR