BEGIN:VCALENDAR
VERSION:2.0
PRODID:-//hacksw/handcal//NONSGML v1.0//EN
CALSCALE:GREGORIAN
BEGIN:VEVENT
SUMMARY:Los Perros
LOCATION:Gezala Auditoriuma
DTSTART:20230219T183000Z
DESCRIPTION:
URL;VALUE=URI:https://azkena.lezo.eus/eu/agenda/los-perros
DTSTAMP:20260421T020543Z
UID:69e6bf576e75f
END:VEVENT
END:VCALENDAR