BEGIN:VCALENDAR
VERSION:2.0
PRODID:-//hacksw/handcal//NONSGML v1.0//EN
CALSCALE:GREGORIAN
BEGIN:VEVENT
SUMMARY:El nadador de aguas abiertas
LOCATION:Gezala Auditoriuma
DTSTART:20230507T173000Z
DESCRIPTION:
URL;VALUE=URI:https://azkena.lezo.eus/eu/agenda/el-nadador-de-aguas-abiertas
DTSTAMP:20260420T153953Z
UID:69e62ca97f101
END:VEVENT
END:VCALENDAR