BEGIN:VCALENDAR
VERSION:2.0
PRODID:-//hacksw/handcal//NONSGML v1.0//EN
CALSCALE:GREGORIAN
BEGIN:VEVENT
SUMMARY:Dab "Nun zira?"
LOCATION:Goiko plazan
DTSTART:20230917T170000Z
DESCRIPTION:
URL;VALUE=URI:https://azkena.lezo.eus/eu/agenda/dab
DTSTAMP:20260420T223418Z
UID:69e68dcad880b
END:VEVENT
END:VCALENDAR