BEGIN:VCALENDAR
VERSION:2.0
PRODID:-//hacksw/handcal//NONSGML v1.0//EN
CALSCALE:GREGORIAN
BEGIN:VEVENT
SUMMARY:La invasión de los bárbaros
LOCATION:Gezala Auditoriuma
DTSTART:20231119T183000Z
DESCRIPTION:
URL;VALUE=URI:https://azkena.lezo.eus/eu/node/103625
DTSTAMP:20260420T221310Z
UID:69e688d6737c7
END:VEVENT
END:VCALENDAR