BEGIN:VCALENDAR
VERSION:2.0
PRODID:-//hacksw/handcal//NONSGML v1.0//EN
CALSCALE:GREGORIAN
BEGIN:VEVENT
SUMMARY:Kanpora sartzen
LOCATION:Gezala Auditoriuma
DTSTART:20231217T183000Z
DESCRIPTION:
URL;VALUE=URI:https://azkena.lezo.eus/eu/node/103629
DTSTAMP:20260420T133410Z
UID:69e60f32d4443
END:VEVENT
END:VCALENDAR