BEGIN:VCALENDAR
VERSION:2.0
PRODID:-//hacksw/handcal//NONSGML v1.0//EN
CALSCALE:GREGORIAN
BEGIN:VEVENT
SUMMARY:Ttipia
LOCATION:Gezala Auditoriuma
DTSTART:20231103T161500Z
DESCRIPTION:
URL;VALUE=URI:https://azkena.lezo.eus/eu/node/103632
DTSTAMP:20260421T062052Z
UID:69e6fb24d31ae
END:VEVENT
END:VCALENDAR