BEGIN:VCALENDAR
VERSION:2.0
PRODID:-//hacksw/handcal//NONSGML v1.0//EN
CALSCALE:GREGORIAN
BEGIN:VEVENT
SUMMARY:Izurde mutikoa
LOCATION:Gezala Auditoriuma
DTSTART:20231202T160000Z
DESCRIPTION:
URL;VALUE=URI:https://azkena.lezo.eus/eu/node/103644
DTSTAMP:20260421T045949Z
UID:69e6e825d4700
END:VEVENT
END:VCALENDAR