BEGIN:VCALENDAR
VERSION:2.0
PRODID:-//hacksw/handcal//NONSGML v1.0//EN
CALSCALE:GREGORIAN
BEGIN:VEVENT
SUMMARY:Rob
LOCATION:Gezala Auditoriuma
DTSTART:20250314T161500Z
DESCRIPTION:
URL;VALUE=URI:https://azkena.lezo.eus/eu/node/104386
DTSTAMP:20260420T133459Z
UID:69e60f6382650
END:VEVENT
END:VCALENDAR