BEGIN:VCALENDAR
VERSION:2.0
PRODID:-//hacksw/handcal//NONSGML v1.0//EN
CALSCALE:GREGORIAN
BEGIN:VEVENT
SUMMARY:Latas (D'click)
LOCATION:Patio cubierto de la Escuela Pública de Lezo
DTSTART:20250823T180000Z
DESCRIPTION:
URL;VALUE=URI:https://azkena.lezo.eus/es/node/104739
DTSTAMP:20260419T161021Z
UID:69e4e24db9e59
END:VEVENT
END:VCALENDAR