BEGIN:VCALENDAR
VERSION:2.0
PRODID:-//hacksw/handcal//NONSGML v1.0//EN
CALSCALE:GREGORIAN
BEGIN:VEVENT
SUMMARY:"Gregoria"
LOCATION:Gezala Auditoriuma
DTSTART:20251127T183000Z
DESCRIPTION:
URL;VALUE=URI:https://azkena.lezo.eus/eu/node/104888
DTSTAMP:20260420T115211Z
UID:69e5f74b6a425
END:VEVENT
END:VCALENDAR