BEGIN:VCALENDAR
VERSION:2.0
PRODID:-//hacksw/handcal//NONSGML v1.0//EN
CALSCALE:GREGORIAN
BEGIN:VEVENT
SUMMARY:NOR NAIZEN BANEKI (Artedrama + Axut!)
LOCATION:Gezala Auditoriuma
DTSTART:20260111T183000Z
DESCRIPTION:
URL;VALUE=URI:https://azkena.lezo.eus/eu/node/104961
DTSTAMP:20260420T115206Z
UID:69e5f74687eb5
END:VEVENT
END:VCALENDAR