BEGIN:VCALENDAR
VERSION:2.0
PRODID:-//hacksw/handcal//NONSGML v1.0//EN
CALSCALE:GREGORIAN
BEGIN:VEVENT
SUMMARY:TRAJEA (Txalo Produkzioak)
LOCATION:Gezala Auditoriuma
DTSTART:20260208T183000Z
DESCRIPTION:
URL;VALUE=URI:https://azkena.lezo.eus/eu/node/104963
DTSTAMP:20260420T090215Z
UID:69e5cf777db28
END:VEVENT
END:VCALENDAR