BEGIN:VCALENDAR
VERSION:2.0
PRODID:-//hacksw/handcal//NONSGML v1.0//EN
CALSCALE:GREGORIAN
BEGIN:VEVENT
SUMMARY:KIMU (Marie de Jongh)
LOCATION:Gezala Auditoriuma
DTSTART:20260220T161500Z
DESCRIPTION:
URL;VALUE=URI:https://azkena.lezo.eus/eu/node/104973
DTSTAMP:20260420T090338Z
UID:69e5cfca67a5f
END:VEVENT
END:VCALENDAR