BEGIN:VCALENDAR
VERSION:2.0
PRODID:-//hacksw/handcal//NONSGML v1.0//EN
CALSCALE:GREGORIAN
BEGIN:VEVENT
SUMMARY:TXAPELDUNAK (Lanku)
LOCATION:Gezala Auditoriuma
DTSTART:20260306T161500Z
DESCRIPTION:
URL;VALUE=URI:https://azkena.lezo.eus/eu/node/104974
DTSTAMP:20260420T101715Z
UID:69e5e10b45f9e
END:VEVENT
END:VCALENDAR