BEGIN:VCALENDAR
VERSION:2.0
PRODID:-//hacksw/handcal//NONSGML v1.0//EN
CALSCALE:GREGORIAN
BEGIN:VEVENT
SUMMARY:LEZO-JAIZKIBEL MAHAI-INGURUA
LOCATION:Gezala Auditoriuma
DTSTART:20260219T180000Z
DESCRIPTION:
URL;VALUE=URI:https://azkena.lezo.eus/eu/node/104986
DTSTAMP:20260420T090336Z
UID:69e5cfc87e16f
END:VEVENT
END:VCALENDAR