BEGIN:VCALENDAR
VERSION:2.0
PRODID:-//hacksw/handcal//NONSGML v1.0//EN
CALSCALE:GREGORIAN
BEGIN:VEVENT
SUMMARY:"Mari eta Gaileta Fabrika"
LOCATION:Gezala Auditoriuma
DTSTART:20190517T153000Z
DESCRIPTION:
URL;VALUE=URI:https://azkena.lezo.eus/eu/agenda/mari-eta-gaileta-fabrika
DTSTAMP:20260422T045119Z
UID:69e837a7c0f47
END:VEVENT
END:VCALENDAR