BEGIN:VCALENDAR
VERSION:2.0
PRODID:-//hacksw/handcal//NONSGML v1.0//EN
CALSCALE:GREGORIAN
BEGIN:VEVENT
SUMMARY:"Burbujas de papel"
LOCATION:Gezala Auditoriuma
DTSTART:20190322T173000Z
DESCRIPTION:
URL;VALUE=URI:https://azkena.lezo.eus/eu/agenda/burbujas-de-papel
DTSTAMP:20260421T171817Z
UID:69e795397db22
END:VEVENT
END:VCALENDAR