BEGIN:VCALENDAR
VERSION:2.0
PRODID:-//hacksw/handcal//NONSGML v1.0//EN
CALSCALE:GREGORIAN
BEGIN:VEVENT
SUMMARY:"Tomiris"
LOCATION:Gezala Auditoriuma
DTSTART:20190310T200000Z
DESCRIPTION:
URL;VALUE=URI:https://azkena.lezo.eus/eu/agenda/tomiris
DTSTAMP:20260421T175729Z
UID:69e79e6945eaf
END:VEVENT
END:VCALENDAR