BEGIN:VCALENDAR
VERSION:2.0
PRODID:-//hacksw/handcal//NONSGML v1.0//EN
CALSCALE:GREGORIAN
BEGIN:VEVENT
SUMMARY:Tertulia lliteraria en euskara: Kirmen Uribe\, "Bilbao-New York-Bilbao"
LOCATION:Biblioteca de Lezo
DTSTART:20190227T183000Z
DESCRIPTION:
URL;VALUE=URI:https://azkena.lezo.eus/eu/kultura/tertulia-lliteraria-en-euskara-kirmen-uribe-bilbao-new-york-bilbao
DTSTAMP:20260422T000506Z
UID:69e7f4923f12a
END:VEVENT
END:VCALENDAR