BEGIN:VCALENDAR
VERSION:2.0
PRODID:-//hacksw/handcal//NONSGML v1.0//EN
CALSCALE:GREGORIAN
BEGIN:VEVENT
SUMMARY:"Egur taupadak"
LOCATION:Gezala Auditoriuma
DTSTART:20190531T153000Z
DESCRIPTION:
URL;VALUE=URI:https://azkena.lezo.eus/eu/agenda/egur-taupadak
DTSTAMP:20260422T011913Z
UID:69e805f1c305c
END:VEVENT
END:VCALENDAR