BEGIN:VCALENDAR
VERSION:2.0
PRODID:-//hacksw/handcal//NONSGML v1.0//EN
CALSCALE:GREGORIAN
BEGIN:VEVENT
SUMMARY:"Black is beltza"
LOCATION:Gezala Auditoriuma
DTSTART:20190216T190000Z
DESCRIPTION:
URL;VALUE=URI:https://azkena.lezo.eus/eu/agenda/black-beltza
DTSTAMP:20260423T101035Z
UID:69e9d3fba6382
END:VEVENT
END:VCALENDAR