BEGIN:VCALENDAR
VERSION:2.0
PRODID:-//hacksw/handcal//NONSGML v1.0//EN
CALSCALE:GREGORIAN
BEGIN:VEVENT
SUMMARY:"Santxoren anaia"
LOCATION:Gezala Auditoriuma
DTSTART:20190127T200000Z
DESCRIPTION:
URL;VALUE=URI:https://azkena.lezo.eus/eu/kultura/santxoren-anaia
DTSTAMP:20260421T203413Z
UID:69e7c325c45f3
END:VEVENT
END:VCALENDAR