BEGIN:VCALENDAR
VERSION:2.0
PRODID:-//hacksw/handcal//NONSGML v1.0//EN
CALSCALE:GREGORIAN
BEGIN:VEVENT
SUMMARY:"Amor oscuro. Sonetos"
LOCATION:Gezala Auditoriuma
DTSTART:20190224T200000Z
DESCRIPTION:
URL;VALUE=URI:https://azkena.lezo.eus/eu/kultura/amor-oscuro-sonetos
DTSTAMP:20260422T113632Z
UID:69e896a05643e
END:VEVENT
END:VCALENDAR