BEGIN:VCALENDAR
VERSION:2.0
PRODID:-//hacksw/handcal//NONSGML v1.0//EN
CALSCALE:GREGORIAN
BEGIN:VEVENT
SUMMARY:"Festamentua"
LOCATION:Gurutze Santuaren plaza
DTSTART:20190609T153000Z
DESCRIPTION:
URL;VALUE=URI:https://azkena.lezo.eus/eu/agenda/festamentua
DTSTAMP:20260421T192804Z
UID:69e7b3a4bd59c
END:VEVENT
END:VCALENDAR