BEGIN:VCALENDAR
VERSION:2.0
PRODID:-//hacksw/handcal//NONSGML v1.0//EN
CALSCALE:GREGORIAN
BEGIN:VEVENT
SUMMARY:"Espacio disponible"
LOCATION:Gezala Auditoriuma
DTSTART:20190505T200000Z
DESCRIPTION:
URL;VALUE=URI:https://azkena.lezo.eus/eu/agenda/espacio-disponible
DTSTAMP:20260422T081236Z
UID:69e866d491d2d
END:VEVENT
END:VCALENDAR