BEGIN:VCALENDAR
VERSION:2.0
PRODID:-//hacksw/handcal//NONSGML v1.0//EN
CALSCALE:GREGORIAN
BEGIN:VEVENT
SUMMARY:Lesoinu 2019: Ensemble Diatessaron
LOCATION:Gezala Auditoriuma
DTSTART:20190406T200000Z
DESCRIPTION:
URL;VALUE=URI:https://azkena.lezo.eus/eu/agenda/lesoinu-2019-ensemble-diatessaron
DTSTAMP:20260422T113730Z
UID:69e896da4f4b6
END:VEVENT
END:VCALENDAR