BEGIN:VCALENDAR
VERSION:2.0
PRODID:-//hacksw/handcal//NONSGML v1.0//EN
CALSCALE:GREGORIAN
BEGIN:VEVENT
SUMMARY:"Tor"
LOCATION:Gezala Auditoriuma
DTSTART:20190222T190000Z
DESCRIPTION:
URL;VALUE=URI:https://azkena.lezo.eus/eu/kultura/tor
DTSTAMP:20260423T132123Z
UID:69ea00b397015
END:VEVENT
END:VCALENDAR