BEGIN:VCALENDAR
VERSION:2.0
PRODID:-//hacksw/handcal//NONSGML v1.0//EN
CALSCALE:GREGORIAN
BEGIN:VEVENT
SUMMARY:Gipuzkoako Eskolarteko bertso txapelketa (idatzizkoa)
LOCATION:Gezala Auditoriuma
DTSTART:20190326T093000Z
DESCRIPTION:
URL;VALUE=URI:https://azkena.lezo.eus/eu/agenda/gipuzkoako-eskolarteko-bertso-txapelketa-idatzizkoa
DTSTAMP:20260419T160859Z
UID:69e4e1fb4e721
END:VEVENT
END:VCALENDAR