BEGIN:VCALENDAR
VERSION:2.0
PRODID:-//hacksw/handcal//NONSGML v1.0//EN
CALSCALE:GREGORIAN
BEGIN:VEVENT
SUMMARY:Lesoinu 2019: Concierto
LOCATION:Gezala Auditoriuma
DTSTART:20190408T180000Z
DESCRIPTION:
URL;VALUE=URI:https://azkena.lezo.eus/eu/agenda/lesoinu-2019-concierto-0
DTSTAMP:20260421T171812Z
UID:69e79534767cc
END:VEVENT
END:VCALENDAR