BEGIN:VCALENDAR
VERSION:2.0
PRODID:-//hacksw/handcal//NONSGML v1.0//EN
CALSCALE:GREGORIAN
BEGIN:VEVENT
SUMMARY:Lesoinu 2019: XXXIII Semana Pedagógico Musical
LOCATION:Gezala Auditoriuma - (Musika eskola eta kalez kale)
DTSTART:20190329T110542Z
DESCRIPTION:
URL;VALUE=URI:https://azkena.lezo.eus/eu/agenda/lesoinu-2019-xxxiii-semana-pedagogico-musical
DTSTAMP:20260422T103313Z
UID:69e887c9b8583
END:VEVENT
END:VCALENDAR