BEGIN:VCALENDAR
VERSION:2.0
PRODID:-//hacksw/handcal//NONSGML v1.0//EN
CALSCALE:GREGORIAN
BEGIN:VEVENT
SUMMARY:"Lur"
LOCATION:Gezala Auditoriuma
DTSTART:20191006T180000Z
DESCRIPTION:
URL;VALUE=URI:https://azkena.lezo.eus/eu/agenda/lur-0
DTSTAMP:20260422T011936Z
UID:69e806082e8e8
END:VEVENT
END:VCALENDAR