BEGIN:VCALENDAR
VERSION:2.0
PRODID:-//hacksw/handcal//NONSGML v1.0//EN
CALSCALE:GREGORIAN
BEGIN:VEVENT
SUMMARY:"Euskal Ezkontza"
LOCATION:KARLOS SALDISE PLAZA
DTSTART:20190615T090000Z
DESCRIPTION:
URL;VALUE=URI:https://azkena.lezo.eus/es/agenda/euskal-ezkontza
DTSTAMP:20260421T112941Z
UID:69e7438551aff
END:VEVENT
END:VCALENDAR