BEGIN:VCALENDAR
VERSION:2.0
PRODID:-//hacksw/handcal//NONSGML v1.0//EN
CALSCALE:GREGORIAN
BEGIN:VEVENT
SUMMARY:"Asterix: Edabe magikoaren sekretua"
LOCATION:Gezala Auditoriuma
DTSTART:20191012T150000Z
DESCRIPTION:
URL;VALUE=URI:https://azkena.lezo.eus/es/agenda/asterix-edabe-magikoaren-sekretua
DTSTAMP:20260421T135456Z
UID:69e76590cc49e
END:VEVENT
END:VCALENDAR