BEGIN:VCALENDAR
VERSION:2.0
PRODID:-//hacksw/handcal//NONSGML v1.0//EN
CALSCALE:GREGORIAN
BEGIN:VEVENT
SUMMARY:"Leo Da Vinci: Mona Lisa Misioa"
LOCATION:Gezala Auditoriuma
DTSTART:20190922T150000Z
DESCRIPTION:
URL;VALUE=URI:https://azkena.lezo.eus/es/agenda/leo-da-vinci-mona-lisa-misioa
DTSTAMP:20260421T192805Z
UID:69e7b3a53edd8
END:VEVENT
END:VCALENDAR