BEGIN:VCALENDAR
VERSION:2.0
PRODID:-//hacksw/handcal//NONSGML v1.0//EN
CALSCALE:GREGORIAN
BEGIN:VEVENT
SUMMARY:"Margolaria"
LOCATION:Gezala Auditoriuma
DTSTART:20191109T180000Z
DESCRIPTION:
URL;VALUE=URI:https://azkena.lezo.eus/es/agenda/margolaria
DTSTAMP:20260421T071700Z
UID:69e7084cf1e48
END:VEVENT
END:VCALENDAR