BEGIN:VCALENDAR
VERSION:2.0
PRODID:-//hacksw/handcal//NONSGML v1.0//EN
CALSCALE:GREGORIAN
BEGIN:VEVENT
SUMMARY:"Topa"
LOCATION:Josetxo Etxandi frontoian
DTSTART:20190915T173000Z
DESCRIPTION:
URL;VALUE=URI:https://azkena.lezo.eus/es/agenda/topa
DTSTAMP:20260423T070606Z
UID:69e9a8be357f0
END:VEVENT
END:VCALENDAR