BEGIN:VCALENDAR
VERSION:2.0
PRODID:-//hacksw/handcal//NONSGML v1.0//EN
CALSCALE:GREGORIAN
BEGIN:VEVENT
SUMMARY:"Etxe Txikiena"
LOCATION:Gezala Auditoriuma
DTSTART:20191213T163000Z
DESCRIPTION:
URL;VALUE=URI:https://azkena.lezo.eus/es/agenda/etxe-txikiena
DTSTAMP:20260421T073615Z
UID:69e70ccf69700
END:VEVENT
END:VCALENDAR