BEGIN:VCALENDAR
VERSION:2.0
PRODID:-//hacksw/handcal//NONSGML v1.0//EN
CALSCALE:GREGORIAN
BEGIN:VEVENT
SUMMARY:"Soinujolearen semea"
LOCATION:Gezala Auditoriuma
DTSTART:20191214T180000Z
DESCRIPTION:
URL;VALUE=URI:https://azkena.lezo.eus/es/agenda/soinujolearen-semea
DTSTAMP:20260422T113730Z
UID:69e896dac203e
END:VEVENT
END:VCALENDAR