BEGIN:VCALENDAR
VERSION:2.0
PRODID:-//hacksw/handcal//NONSGML v1.0//EN
CALSCALE:GREGORIAN
BEGIN:VEVENT
SUMMARY:"Oin Handiren semea"
LOCATION:Gezala Auditoriuma
DTSTART:20191214T160000Z
DESCRIPTION:
URL;VALUE=URI:https://azkena.lezo.eus/es/agenda/oin-handiren-semea
DTSTAMP:20260421T235158Z
UID:69e7f17e0d20d
END:VEVENT
END:VCALENDAR