BEGIN:VCALENDAR
VERSION:2.0
PRODID:-//hacksw/handcal//NONSGML v1.0//EN
CALSCALE:GREGORIAN
BEGIN:VEVENT
SUMMARY:"Bernarda Albaren bost alabak"
LOCATION:Gezala Auditoriuma
DTSTART:20191123T190000Z
DESCRIPTION:
URL;VALUE=URI:https://azkena.lezo.eus/es/agenda/bernarda-albaren-bost-alabak
DTSTAMP:20260421T091858Z
UID:69e724e2a80a8
END:VEVENT
END:VCALENDAR