BEGIN:VCALENDAR
VERSION:2.0
PRODID:-//hacksw/handcal//NONSGML v1.0//EN
CALSCALE:GREGORIAN
BEGIN:VEVENT
SUMMARY:"Quitamiedos"
LOCATION:Gezala Auditoriuma
DTSTART:20191117T190000Z
DESCRIPTION:
URL;VALUE=URI:https://azkena.lezo.eus/es/agenda/quitamiedos
DTSTAMP:20260421T072752Z
UID:69e70ad8acf25
END:VEVENT
END:VCALENDAR