BEGIN:VCALENDAR
VERSION:2.0
PRODID:-//hacksw/handcal//NONSGML v1.0//EN
CALSCALE:GREGORIAN
BEGIN:VEVENT
SUMMARY:"Horman erlojua duen etxea"
LOCATION:Gezala Auditoriuma
DTSTART:20191109T160000Z
DESCRIPTION:
URL;VALUE=URI:https://azkena.lezo.eus/es/agenda/horman-erlojua-duen-etxea
DTSTAMP:20260421T091859Z
UID:69e724e3b5f71
END:VEVENT
END:VCALENDAR