BEGIN:VCALENDAR
VERSION:2.0
PRODID:-//hacksw/handcal//NONSGML v1.0//EN
CALSCALE:GREGORIAN
BEGIN:VEVENT
SUMMARY:Nazioarteko Itsaspeko Zinema Zikloa
LOCATION:Gezala Auditoriuma
DTSTART:20191019T170000Z
DESCRIPTION:
URL;VALUE=URI:https://azkena.lezo.eus/es/agenda/nazioarteko-itsaspeko-zinema-zikloa
DTSTAMP:20260422T113725Z
UID:69e896d548107
END:VEVENT
END:VCALENDAR