BEGIN:VCALENDAR
VERSION:2.0
PRODID:-//hacksw/handcal//NONSGML v1.0//EN
CALSCALE:GREGORIAN
BEGIN:VEVENT
SUMMARY:Nazioarteko Itsaspeko Zinema Zikloa Txikientzat
LOCATION:Gezala Auditoriuma
DTSTART:20191018T090000Z
DESCRIPTION:
URL;VALUE=URI:https://azkena.lezo.eus/es/agenda/nazioarteko-itsaspeko-zinema-zikloa-txikientzat-1
DTSTAMP:20260421T192710Z
UID:69e7b36e0ed2d
END:VEVENT
END:VCALENDAR