BEGIN:VCALENDAR
VERSION:2.0
PRODID:-//hacksw/handcal//NONSGML v1.0//EN
CALSCALE:GREGORIAN
BEGIN:VEVENT
SUMMARY:Pirritx\, Porrotx eta Marimotots: "Bizi dantza"
LOCATION:Kiroldegia
DTSTART:20200105T110000Z
DESCRIPTION:
URL;VALUE=URI:https://azkena.lezo.eus/eu/agenda/pirritx-porrotx-eta-marimotots-bizi-dantza
DTSTAMP:20260421T071623Z
UID:69e7082755fe0
END:VEVENT
END:VCALENDAR