BEGIN:VCALENDAR
VERSION:2.0
PRODID:-//hacksw/handcal//NONSGML v1.0//EN
CALSCALE:GREGORIAN
BEGIN:VEVENT
SUMMARY:GORPUZTU
LOCATION:Gezala Auditoriuma
DTSTART:20200112T190000Z
DESCRIPTION:
URL;VALUE=URI:https://azkena.lezo.eus/eu/agenda/gorpuztu
DTSTAMP:20260421T053000Z
UID:69e6ef38eba04
END:VEVENT
END:VCALENDAR